BEGIN:VCALENDAR
VERSION:2.0
PRODID:-//TCOSS - ECPv4.9.12//NONSGML v1.0//EN
CALSCALE:GREGORIAN
METHOD:PUBLISH
X-WR-CALNAME:TCOSS
X-ORIGINAL-URL:https://tcoss.co.nz
X-WR-CALDESC:Events for TCOSS
BEGIN:VTIMEZONE
TZID:Pacific/Auckland
BEGIN:STANDARD
TZOFFSETFROM:+1300
TZOFFSETTO:+1200
TZNAME:NZST
DTSTART:20160402T140000
END:STANDARD
BEGIN:DAYLIGHT
TZOFFSETFROM:+1200
TZOFFSETTO:+1300
TZNAME:NZDT
DTSTART:20160924T140000
END:DAYLIGHT
END:VTIMEZONE
BEGIN:VEVENT
DTSTART;TZID=Pacific/Auckland:20160416T100000
DTEND;TZID=Pacific/Auckland:20160416T150000
DTSTAMP:20191223T091943
CREATED:20160408T021854Z
LAST-MODIFIED:20160408T021854Z
UID:1238-1460800800-1460818800@tcoss.co.nz
SUMMARY:Friends of the Lake Working Bee
DESCRIPTION:The Friends of the Lake Committee are holding a Working Bee day\, at the Tainui end Bridge of Lake Moananui\, commencing at 10.00 am. \nFor more information contact Josiah Teokotai – 07 886 8277 extn 701 \n
URL:https://tcoss.co.nz/event/friends-of-the-lake-working-bee/
LOCATION:Lake Moananui\, Arawa Street\, Tokoroa
END:VEVENT
END:VCALENDAR