BEGIN:VCALENDAR
VERSION:2.0
PRODID:-//TCOSS - ECPv4.9.12//NONSGML v1.0//EN
CALSCALE:GREGORIAN
METHOD:PUBLISH
X-WR-CALNAME:TCOSS
X-ORIGINAL-URL:https://tcoss.co.nz
X-WR-CALDESC:Events for TCOSS
BEGIN:VTIMEZONE
TZID:Pacific/Auckland
BEGIN:STANDARD
TZOFFSETFROM:+1300
TZOFFSETTO:+1200
TZNAME:NZST
DTSTART:20160402T140000
END:STANDARD
BEGIN:DAYLIGHT
TZOFFSETFROM:+1200
TZOFFSETTO:+1300
TZNAME:NZDT
DTSTART:20160924T140000
END:DAYLIGHT
END:VTIMEZONE
BEGIN:VEVENT
DTSTART;VALUE=DATE:20161024
DTEND;VALUE=DATE:20161025
DTSTAMP:20191223T092026
CREATED:20160408T021335Z
LAST-MODIFIED:20160408T021335Z
UID:1237-1477267200-1477353599@tcoss.co.nz
SUMMARY:Labour Day
DESCRIPTION:
URL:https://tcoss.co.nz/event/labour-day/
END:VEVENT
END:VCALENDAR